BEGIN:VCALENDAR
VERSION:2.0
PRODID:-//wowchildrensmuseum.org//NONSGML kigkonsult.se iCalcreator 2.30.10
 //
CALSCALE:GREGORIAN
METHOD:PUBLISH
UID:9ca2274c-3d58-494f-a5aa-27f4326c842a
X-WR-CALDESC:We're celebrating Valentine's Day all week long with stories\,
  crafts\, and STEM activities!\n\nIncluded with Museum Admission or Member
 ship.
X-WR-RELCALID:a76146949a93919f35234a4352e4a7c3
X-WR-TIMEZONE:America/Denver
BEGIN:VTIMEZONE
TZID:America/Denver
BEGIN:STANDARD
TZNAME:MST
DTSTART:20241103T020000
TZOFFSETFROM:-0600
TZOFFSETTO:-0700
RDATE:20251102T020000
END:STANDARD
BEGIN:DAYLIGHT
TZNAME:MDT
DTSTART:20240310T020000
TZOFFSETFROM:-0700
TZOFFSETTO:-0600
RDATE:20250309T020000
RDATE:20260308T020000
END:DAYLIGHT
END:VTIMEZONE
BEGIN:VEVENT
UID:7d4abd6e-ac1f-430f-b2c2-d60fabfeb3bb
DTSTAMP:20260420T140846Z
DESCRIPTION:We're celebrating Valentine's Day all week long with stories\, 
 crafts\, and STEM activities!\n\nIncluded with Museum Admission or Members
 hip.
DTSTART;TZID=America/Denver:20250214T140000
DTEND;TZID=America/Denver:20250214T150000
LOCATION:
SUMMARY:Heart Garland craft
END:VEVENT
END:VCALENDAR
