BEGIN:VCALENDAR
VERSION:2.0
PRODID:-//wowchildrensmuseum.org//NONSGML kigkonsult.se iCalcreator 2.30.10
 //
CALSCALE:GREGORIAN
METHOD:PUBLISH
UID:d3b5db37-7a37-4588-a498-e6a8ef34ae1d
X-WR-CALDESC:We're celebrating Valentine's Day all week long with stories\,
  crafts\, and STEM activities!\n\nIncluded with Museum Admission or Member
 ship.
X-WR-RELCALID:f680f1300a87392a2dfc1e2d9b38bcf2
X-WR-TIMEZONE:America/Denver
BEGIN:VTIMEZONE
TZID:America/Denver
BEGIN:STANDARD
TZNAME:MST
DTSTART:20241103T020000
TZOFFSETFROM:-0600
TZOFFSETTO:-0700
RDATE:20251102T020000
END:STANDARD
BEGIN:DAYLIGHT
TZNAME:MDT
DTSTART:20240310T020000
TZOFFSETFROM:-0700
TZOFFSETTO:-0600
RDATE:20250309T020000
RDATE:20260308T020000
END:DAYLIGHT
END:VTIMEZONE
BEGIN:VEVENT
UID:a21f4897-c311-40cc-b8da-c001a2ed7bb6
DTSTAMP:20260420T140358Z
DESCRIPTION:We're celebrating Valentine's Day all week long with stories\, 
 crafts\, and STEM activities!\n\nIncluded with Museum Admission or Members
 hip.
DTSTART;TZID=America/Denver:20250213T150000
DTEND;TZID=America/Denver:20250213T160000
LOCATION:
SUMMARY:Heart Pockets craft
END:VEVENT
END:VCALENDAR
