BEGIN:VCALENDAR
VERSION:2.0
PRODID:-//wowchildrensmuseum.org//NONSGML kigkonsult.se iCalcreator 2.30.10
 //
CALSCALE:GREGORIAN
METHOD:PUBLISH
UID:e3b123bb-ac90-4f85-bb58-91ed1da8b16f
X-WR-CALDESC:Included with Museum Admission or Membership
X-WR-RELCALID:99802a833d04953f786478d1ba3a8d08
X-WR-TIMEZONE:America/Denver
BEGIN:VTIMEZONE
TZID:America/Denver
BEGIN:STANDARD
TZNAME:MST
DTSTART:20241103T020000
TZOFFSETFROM:-0600
TZOFFSETTO:-0700
RDATE:20251102T020000
END:STANDARD
BEGIN:DAYLIGHT
TZNAME:MDT
DTSTART:20240310T020000
TZOFFSETFROM:-0700
TZOFFSETTO:-0600
RDATE:20250309T020000
RDATE:20260308T020000
END:DAYLIGHT
END:VTIMEZONE
BEGIN:VEVENT
UID:cfbfc075-f686-45cd-92d9-067a8e533cf8
DTSTAMP:20260420T140357Z
DESCRIPTION:Included with Museum Admission or Membership
DTSTART;TZID=America/Denver:20250212T130000
DTEND;TZID=America/Denver:20250212T133000
LOCATION:
SUMMARY:Storytime
END:VEVENT
END:VCALENDAR
