BEGIN:VCALENDAR
VERSION:2.0
PRODID:-//wowchildrensmuseum.org//NONSGML kigkonsult.se iCalcreator 2.30.10
 //
CALSCALE:GREGORIAN
METHOD:PUBLISH
UID:0d43a205-2790-4b20-897e-222d9231825d
X-WR-CALDESC:We're celebrating Valentine's Day all week long with stories\,
  crafts\, and STEM activities!\n\nIncluded with Museum Admission or Member
 ship.
X-WR-RELCALID:2112a9c45a433c7421c43a785a16970b
X-WR-TIMEZONE:America/Denver
BEGIN:VTIMEZONE
TZID:America/Denver
BEGIN:STANDARD
TZNAME:MST
DTSTART:20241103T020000
TZOFFSETFROM:-0600
TZOFFSETTO:-0700
RDATE:20251102T020000
END:STANDARD
BEGIN:DAYLIGHT
TZNAME:MDT
DTSTART:20240310T020000
TZOFFSETFROM:-0700
TZOFFSETTO:-0600
RDATE:20250309T020000
RDATE:20260308T020000
END:DAYLIGHT
END:VTIMEZONE
BEGIN:VEVENT
UID:ef0fe75d-ec4d-4964-abea-2ddbd6e445c5
DTSTAMP:20260420T141011Z
DESCRIPTION:We're celebrating Valentine's Day all week long with stories\, 
 crafts\, and STEM activities!\n\nIncluded with Museum Admission or Members
 hip.
DTSTART;TZID=America/Denver:20250212T150000
DTEND;TZID=America/Denver:20250212T160000
LOCATION:
SUMMARY:'Heart to Heart' Magnet Matching
END:VEVENT
END:VCALENDAR
