BEGIN:VCALENDAR
VERSION:2.0
PRODID:-//wowchildrensmuseum.org//NONSGML kigkonsult.se iCalcreator 2.30.10
 //
CALSCALE:GREGORIAN
METHOD:PUBLISH
UID:693b2b8b-56d5-4916-8b7f-933c1e4fbf9f
X-WR-CALDESC:Due to continuing snow conditions\, WOW! will be closing at 3:
 30pm today. Thank you for your understanding!
X-WR-RELCALID:276dff768f9022c0fbad79a721b1572d
X-WR-TIMEZONE:America/Denver
BEGIN:VTIMEZONE
TZID:America/Denver
BEGIN:STANDARD
TZNAME:MST
DTSTART:20241103T020000
TZOFFSETFROM:-0600
TZOFFSETTO:-0700
RDATE:20251102T020000
END:STANDARD
BEGIN:DAYLIGHT
TZNAME:MDT
DTSTART:20240310T020000
TZOFFSETFROM:-0700
TZOFFSETTO:-0600
RDATE:20250309T020000
RDATE:20260308T020000
END:DAYLIGHT
END:VTIMEZONE
BEGIN:VEVENT
UID:f87e3e05-ef4a-4b28-a82b-c3dc95ce8387
DTSTAMP:20260420T123921Z
DESCRIPTION:Due to continuing snow conditions\, WOW! will be closing at 3:3
 0pm today. Thank you for your understanding!
DTSTART;TZID=America/Denver:20250125T040000
DTEND;TZID=America/Denver:20250125T040001
LOCATION:
SUMMARY:CLOSING EARLY AT 3:30
END:VEVENT
END:VCALENDAR
