BEGIN:VCALENDAR
VERSION:2.0
PRODID:-//wowchildrensmuseum.org//NONSGML kigkonsult.se iCalcreator 2.30.10
 //
CALSCALE:GREGORIAN
METHOD:PUBLISH
UID:7100b0c2-fda5-4147-81b2-59c340789d17
X-WR-CALDESC:Included with Museum Admission or Membership
X-WR-RELCALID:0074a8d559af6b763aec406f778de5c2
X-WR-TIMEZONE:America/Denver
BEGIN:VTIMEZONE
TZID:America/Denver
BEGIN:STANDARD
TZNAME:MST
DTSTART:20241103T020000
TZOFFSETFROM:-0600
TZOFFSETTO:-0700
RDATE:20251102T020000
END:STANDARD
BEGIN:DAYLIGHT
TZNAME:MDT
DTSTART:20240310T020000
TZOFFSETFROM:-0700
TZOFFSETTO:-0600
RDATE:20250309T020000
RDATE:20260308T020000
END:DAYLIGHT
END:VTIMEZONE
BEGIN:VEVENT
UID:6aa3b36d-88a6-4345-a05c-6be724f2fb57
DTSTAMP:20260420T122441Z
DESCRIPTION:Included with Museum Admission or Membership
DTSTART;TZID=America/Denver:20250103T150000
DTEND;TZID=America/Denver:20250103T160000
LOCATION:
SUMMARY:Cubelets--Play with Robot Cubes!
END:VEVENT
END:VCALENDAR
