BEGIN:VCALENDAR
VERSION:2.0
PRODID:-//wowchildrensmuseum.org//NONSGML kigkonsult.se iCalcreator 2.30.10
 //
CALSCALE:GREGORIAN
METHOD:PUBLISH
UID:37ceb0c3-d964-47ec-929a-d46548c5c8d0
X-WR-CALDESC:Included with Museum Admission or Membership
X-WR-RELCALID:a8f099e3a3b0a82abd33ca0977eb6ada
X-WR-TIMEZONE:America/Denver
BEGIN:VTIMEZONE
TZID:America/Denver
BEGIN:STANDARD
TZNAME:MST
DTSTART:20241103T020000
TZOFFSETFROM:-0600
TZOFFSETTO:-0700
RDATE:20251102T020000
END:STANDARD
BEGIN:DAYLIGHT
TZNAME:MDT
DTSTART:20240310T020000
TZOFFSETFROM:-0700
TZOFFSETTO:-0600
RDATE:20250309T020000
RDATE:20260308T020000
END:DAYLIGHT
END:VTIMEZONE
BEGIN:VEVENT
UID:0b711a34-b201-4470-9d7d-26b6d9c080e6
DTSTAMP:20260420T122625Z
DESCRIPTION:Included with Museum Admission or Membership
DTSTART;TZID=America/Denver:20250102T100000
DTEND;TZID=America/Denver:20250102T110000
LOCATION:
SUMMARY:Bug Dye Snowflakes Craft
END:VEVENT
END:VCALENDAR
