BEGIN:VCALENDAR
VERSION:2.0
PRODID:-//wowchildrensmuseum.org//NONSGML kigkonsult.se iCalcreator 2.30.10
 //
CALSCALE:GREGORIAN
METHOD:PUBLISH
UID:f4b80e50-fa75-430d-95e8-007a5b73002b
X-WR-CALDESC:School is out and the Museum is open! Come play today--we will
  be open 9:00am-5:00pm.
X-WR-RELCALID:3ffede7b4827bffff46794cde7bcdf49
X-WR-TIMEZONE:America/Denver
BEGIN:VTIMEZONE
TZID:America/Denver
BEGIN:STANDARD
TZNAME:MST
DTSTART:20241103T020000
TZOFFSETFROM:-0600
TZOFFSETTO:-0700
RDATE:20251102T020000
END:STANDARD
BEGIN:DAYLIGHT
TZNAME:MDT
DTSTART:20240310T020000
TZOFFSETFROM:-0700
TZOFFSETTO:-0600
RDATE:20250309T020000
RDATE:20260308T020000
END:DAYLIGHT
END:VTIMEZONE
BEGIN:VEVENT
UID:e355ab5a-bbb8-4f51-94b3-95725cfa99a5
DTSTAMP:20260422T111046Z
DESCRIPTION:School is out and the Museum is open! Come play today--we will 
 be open 9:00am-5:00pm.
DTSTART;TZID=America/Denver:20241230T090000
DTEND;TZID=America/Denver:20241230T170000
LOCATION:
SUMMARY:Museum Open- Winter Break
END:VEVENT
END:VCALENDAR
