BEGIN:VCALENDAR
VERSION:2.0
PRODID:-//wowchildrensmuseum.org//NONSGML kigkonsult.se iCalcreator 2.30.10
 //
CALSCALE:GREGORIAN
METHOD:PUBLISH
UID:d7bbf73f-56ab-480a-a0a0-fafc999857f5
X-WR-CALDESC:Included with Museum Admission or Membership
X-WR-RELCALID:b0d7dd6dfb2ddfca0b07ed7b0fc13b2d
X-WR-TIMEZONE:America/Denver
BEGIN:VTIMEZONE
TZID:America/Denver
BEGIN:STANDARD
TZNAME:MST
DTSTART:20241103T020000
TZOFFSETFROM:-0600
TZOFFSETTO:-0700
RDATE:20251102T020000
END:STANDARD
BEGIN:DAYLIGHT
TZNAME:MDT
DTSTART:20240310T020000
TZOFFSETFROM:-0700
TZOFFSETTO:-0600
RDATE:20250309T020000
RDATE:20260308T020000
END:DAYLIGHT
END:VTIMEZONE
BEGIN:VEVENT
UID:feae2c1e-e56a-4878-9624-99e847c719d8
DTSTAMP:20260422T111046Z
DESCRIPTION:Included with Museum Admission or Membership
DTSTART;TZID=America/Denver:20241227T140000
DTEND;TZID=America/Denver:20241227T150000
LOCATION:
SUMMARY:Snow Day Craft
END:VEVENT
END:VCALENDAR
