BEGIN:VCALENDAR
VERSION:2.0
PRODID:-//wowchildrensmuseum.org//NONSGML kigkonsult.se iCalcreator 2.30.10
 //
CALSCALE:GREGORIAN
METHOD:PUBLISH
UID:e32d5ffc-c9c8-4add-b7c0-84cadbd0a391
X-WR-CALDESC:Included with Museum Admission or Membership
X-WR-RELCALID:58f268542c3b9fb678845b7d8491476f
X-WR-TIMEZONE:America/Denver
BEGIN:VTIMEZONE
TZID:America/Denver
BEGIN:STANDARD
TZNAME:MST
DTSTART:20241103T020000
TZOFFSETFROM:-0600
TZOFFSETTO:-0700
RDATE:20251102T020000
END:STANDARD
BEGIN:DAYLIGHT
TZNAME:MDT
DTSTART:20240310T020000
TZOFFSETFROM:-0700
TZOFFSETTO:-0600
RDATE:20250309T020000
RDATE:20260308T020000
END:DAYLIGHT
END:VTIMEZONE
BEGIN:VEVENT
UID:68c05402-90e4-41ea-89cd-7c5b5873052d
DTSTAMP:20260422T111145Z
DESCRIPTION:Included with Museum Admission or Membership
DTSTART;TZID=America/Denver:20241227T160000
DTEND;TZID=America/Denver:20241227T163000
LOCATION:
SUMMARY:Felt Board Storytime
END:VEVENT
END:VCALENDAR
