BEGIN:VCALENDAR
VERSION:2.0
PRODID:-//wowchildrensmuseum.org//NONSGML kigkonsult.se iCalcreator 2.30.10
 //
CALSCALE:GREGORIAN
METHOD:PUBLISH
UID:d9bb3e6b-2959-4651-bcc1-c6e51cfa03d3
X-WR-CALDESC:What will you build? Join us for cardboard creations\, while s
 upplies last!\n\nIncluded with Museum Admission or Membership.
X-WR-RELCALID:a54ba225b854f135e25366c478d997bf
X-WR-TIMEZONE:America/Denver
BEGIN:VTIMEZONE
TZID:America/Denver
BEGIN:STANDARD
TZNAME:MST
DTSTART:20241103T020000
TZOFFSETFROM:-0600
TZOFFSETTO:-0700
RDATE:20251102T020000
END:STANDARD
BEGIN:DAYLIGHT
TZNAME:MDT
DTSTART:20240310T020000
TZOFFSETFROM:-0700
TZOFFSETTO:-0600
RDATE:20250309T020000
RDATE:20260308T020000
END:DAYLIGHT
END:VTIMEZONE
BEGIN:VEVENT
UID:52d8d61c-ab97-497a-803a-3a46f634766c
DTSTAMP:20260422T104551Z
DESCRIPTION:What will you build? Join us for cardboard creations\, while su
 pplies last!\n\nIncluded with Museum Admission or Membership.
DTSTART;TZID=America/Denver:20241226T090000
DTEND;TZID=America/Denver:20241226T170000
LOCATION:
SUMMARY:Box Day on Boxing Day!
END:VEVENT
END:VCALENDAR
