BEGIN:VCALENDAR
VERSION:2.0
PRODID:-//wowchildrensmuseum.org//NONSGML kigkonsult.se iCalcreator 2.30.10
 //
CALSCALE:GREGORIAN
METHOD:PUBLISH
UID:66430a07-512e-43c0-a684-790f8e066740
X-WR-CALDESC:WOW! will be closed Wednesday\, December 24th and 25th. Happy 
 Holidays!
X-WR-RELCALID:a654ce210850bb7b81500c83b078ac5c
X-WR-TIMEZONE:America/Denver
BEGIN:VTIMEZONE
TZID:America/Denver
BEGIN:STANDARD
TZNAME:MST
DTSTART:20241103T020000
TZOFFSETFROM:-0600
TZOFFSETTO:-0700
RDATE:20251102T020000
END:STANDARD
BEGIN:DAYLIGHT
TZNAME:MDT
DTSTART:20240310T020000
TZOFFSETFROM:-0700
TZOFFSETTO:-0600
RDATE:20250309T020000
RDATE:20260308T020000
END:DAYLIGHT
END:VTIMEZONE
BEGIN:VEVENT
UID:522b5e87-3825-43da-b41c-e1e71aae5246
DTSTAMP:20260422T114043Z
DESCRIPTION:WOW! will be closed Wednesday\, December 24th and 25th. Happy H
 olidays!
DTSTART;TZID=America/Denver:20241224T040000
DTEND;TZID=America/Denver:20241224T040001
LOCATION:
SUMMARY:Museum Closed- Christmas Eve
END:VEVENT
END:VCALENDAR
