BEGIN:VCALENDAR
VERSION:2.0
PRODID:-//wowchildrensmuseum.org//NONSGML kigkonsult.se iCalcreator 2.30.10
 //
CALSCALE:GREGORIAN
METHOD:PUBLISH
UID:d7199b21-5ac4-4aba-b26d-a0b125334e5c
X-WR-CALDESC:School is out and the Museum is open! Come play today--we will
  be open 9:00am-5:00pm.
X-WR-RELCALID:e609b5d1b02c2ef75cc1b0286ec5bc7e
X-WR-TIMEZONE:America/Denver
BEGIN:VTIMEZONE
TZID:America/Denver
BEGIN:STANDARD
TZNAME:MST
DTSTART:20241103T020000
TZOFFSETFROM:-0600
TZOFFSETTO:-0700
RDATE:20251102T020000
END:STANDARD
BEGIN:DAYLIGHT
TZNAME:MDT
DTSTART:20240310T020000
TZOFFSETFROM:-0700
TZOFFSETTO:-0600
RDATE:20250309T020000
RDATE:20260308T020000
END:DAYLIGHT
END:VTIMEZONE
BEGIN:VEVENT
UID:62ecb34b-4692-4e62-b299-9886970b6588
DTSTAMP:20260424T103315Z
DESCRIPTION:School is out and the Museum is open! Come play today--we will 
 be open 9:00am-5:00pm.
DTSTART;TZID=America/Denver:20241223T090000
DTEND;TZID=America/Denver:20241223T170000
LOCATION:
SUMMARY:Museum Open- Winter Break
END:VEVENT
END:VCALENDAR
