BEGIN:VCALENDAR
VERSION:2.0
PRODID:-//wowchildrensmuseum.org//NONSGML kigkonsult.se iCalcreator 2.30.10
 //
CALSCALE:GREGORIAN
METHOD:PUBLISH
UID:4b6269ab-f303-4070-a31c-cb9ad5523159
X-WR-CALDESC:Craft with us until supplies run out! Included with Museum Adm
 ission or Membership.
X-WR-RELCALID:beafc55a7bc2d2870304c5cdbba16ad6
X-WR-TIMEZONE:America/Denver
BEGIN:VTIMEZONE
TZID:America/Denver
BEGIN:STANDARD
TZNAME:MST
DTSTART:20241103T020000
TZOFFSETFROM:-0600
TZOFFSETTO:-0700
RDATE:20251102T020000
END:STANDARD
BEGIN:DAYLIGHT
TZNAME:MDT
DTSTART:20240310T020000
TZOFFSETFROM:-0700
TZOFFSETTO:-0600
RDATE:20250309T020000
RDATE:20260308T020000
END:DAYLIGHT
END:VTIMEZONE
BEGIN:VEVENT
UID:4070c811-f5e6-413b-a040-d881d641ff04
DTSTAMP:20260422T114234Z
DESCRIPTION:Craft with us until supplies run out! Included with Museum Admi
 ssion or Membership.
DTSTART;TZID=America/Denver:20241220T090000
DTEND;TZID=America/Denver:20241220T170000
LOCATION:
SUMMARY:Paper Cookies & Hot Cocoa Craft
END:VEVENT
END:VCALENDAR
