BEGIN:VCALENDAR
VERSION:2.0
PRODID:-//wowchildrensmuseum.org//NONSGML kigkonsult.se iCalcreator 2.30.10
 //
CALSCALE:GREGORIAN
METHOD:PUBLISH
UID:c9abd286-665d-4a06-bb27-acf7de23fa17
X-WR-CALDESC:Included with Museum Admission or Membership
X-WR-RELCALID:82c9941ecd71e227fa8557194181e7a7
X-WR-TIMEZONE:America/Denver
BEGIN:VTIMEZONE
TZID:America/Denver
BEGIN:STANDARD
TZNAME:MST
DTSTART:20241103T020000
TZOFFSETFROM:-0600
TZOFFSETTO:-0700
RDATE:20251102T020000
END:STANDARD
BEGIN:DAYLIGHT
TZNAME:MDT
DTSTART:20240310T020000
TZOFFSETFROM:-0700
TZOFFSETTO:-0600
RDATE:20250309T020000
RDATE:20260308T020000
END:DAYLIGHT
END:VTIMEZONE
BEGIN:VEVENT
UID:895120d5-8e45-4f4f-b02b-27b5b77ad5e8
DTSTAMP:20260422T110955Z
DESCRIPTION:Included with Museum Admission or Membership
DTSTART;TZID=America/Denver:20241218T140000
DTEND;TZID=America/Denver:20241218T150000
LOCATION:
SUMMARY:Ornament Making Craft
END:VEVENT
END:VCALENDAR
