BEGIN:VCALENDAR
VERSION:2.0
PRODID:-//wowchildrensmuseum.org//NONSGML kigkonsult.se iCalcreator 2.30.10
 //
CALSCALE:GREGORIAN
METHOD:PUBLISH
UID:f273c72a-72e9-464d-9f56-c858d89ce5f7
X-WR-CALDESC:Included with Museum Admission or Membership
X-WR-RELCALID:a358428df1faaf323350dedd39648d9f
X-WR-TIMEZONE:America/Denver
BEGIN:VTIMEZONE
TZID:America/Denver
BEGIN:STANDARD
TZNAME:MST
DTSTART:20241103T020000
TZOFFSETFROM:-0600
TZOFFSETTO:-0700
RDATE:20251102T020000
END:STANDARD
BEGIN:DAYLIGHT
TZNAME:MDT
DTSTART:20240310T020000
TZOFFSETFROM:-0700
TZOFFSETTO:-0600
RDATE:20250309T020000
RDATE:20260308T020000
END:DAYLIGHT
END:VTIMEZONE
BEGIN:VEVENT
UID:0c182025-356b-4fec-a1a6-9854199f8fa2
DTSTAMP:20260422T154703Z
DESCRIPTION:Included with Museum Admission or Membership
DTSTART;TZID=America/Denver:20241218T100000
DTEND;TZID=America/Denver:20241218T103000
LOCATION:
SUMMARY:Felt Board Storytime
END:VEVENT
END:VCALENDAR
