BEGIN:VCALENDAR
VERSION:2.0
PRODID:-//wowchildrensmuseum.org//NONSGML kigkonsult.se iCalcreator 2.30.10
 //
CALSCALE:GREGORIAN
METHOD:PUBLISH
UID:219d6b2a-e4b8-4474-8310-79f2e89fb77a
X-WR-CALDESC:Happy Thanksgiving! WOW! will be closed today in observance of
  the holiday.
X-WR-RELCALID:2855aa29e545bc1dd8d3aa2244f373b9
X-WR-TIMEZONE:America/Denver
BEGIN:VTIMEZONE
TZID:America/Denver
BEGIN:STANDARD
TZNAME:MST
DTSTART:20241103T020000
TZOFFSETFROM:-0600
TZOFFSETTO:-0700
RDATE:20251102T020000
END:STANDARD
BEGIN:DAYLIGHT
TZNAME:MDT
DTSTART:20240310T020000
TZOFFSETFROM:-0700
TZOFFSETTO:-0600
RDATE:20250309T020000
RDATE:20260308T020000
END:DAYLIGHT
END:VTIMEZONE
BEGIN:VEVENT
UID:173fba4f-0b8d-4826-bf12-21b5acfba5d4
DTSTAMP:20260422T092758Z
DESCRIPTION:Happy Thanksgiving! WOW! will be closed today in observance of 
 the holiday.
DTSTART;TZID=America/Denver:20241128T040000
DTEND;TZID=America/Denver:20241128T040001
LOCATION:
SUMMARY:Museum Closed- Thanksgiving
END:VEVENT
END:VCALENDAR
