BEGIN:VCALENDAR
VERSION:2.0
PRODID:-//wowchildrensmuseum.org//NONSGML kigkonsult.se iCalcreator 2.30.10
 //
CALSCALE:GREGORIAN
METHOD:PUBLISH
UID:37f736c7-25b0-4b54-a5f4-7ef112802cb4
X-WR-CALDESC:School is out and the Museum is open! Come and play--we are op
 en 9:00am-5:00pm today!
X-WR-RELCALID:292f71782dd848fa934058064ac6abea
X-WR-TIMEZONE:America/Denver
BEGIN:VTIMEZONE
TZID:America/Denver
BEGIN:STANDARD
TZNAME:MST
DTSTART:20241103T020000
TZOFFSETFROM:-0600
TZOFFSETTO:-0700
RDATE:20251102T020000
END:STANDARD
BEGIN:DAYLIGHT
TZNAME:MDT
DTSTART:20240310T020000
TZOFFSETFROM:-0700
TZOFFSETTO:-0600
RDATE:20250309T020000
RDATE:20260308T020000
END:DAYLIGHT
END:VTIMEZONE
BEGIN:VEVENT
UID:46b3acb7-a012-4b56-9709-e7e9f2ecdde2
DTSTAMP:20260422T092455Z
DESCRIPTION:School is out and the Museum is open! Come and play--we are ope
 n 9:00am-5:00pm today!
DTSTART;TZID=America/Denver:20241125T090000
DTEND;TZID=America/Denver:20241125T170000
LOCATION:
SUMMARY:Museum Open--Thanksgiving Break
END:VEVENT
END:VCALENDAR
