BEGIN:VCALENDAR
VERSION:2.0
PRODID:-//wowchildrensmuseum.org//NONSGML kigkonsult.se iCalcreator 2.30.10
 //
CALSCALE:GREGORIAN
METHOD:PUBLISH
UID:8b88200d-0b3d-4db3-a2c3-0e5c421bc617
X-WR-CALDESC:Children's voices matter too! Come to play at WOW! and have a 
 chance to fill out your very own ballot. Who will win?: Pizza vs. Tacos vs
 . Mac & Cheese\, and more! \n\nIncluded with Museum Admission or Membershi
 p.
X-WR-RELCALID:82644da586778012ea70aa01edefe389
X-WR-TIMEZONE:America/Denver
BEGIN:VTIMEZONE
TZID:America/Denver
BEGIN:STANDARD
TZNAME:MST
DTSTART:20241103T020000
TZOFFSETFROM:-0600
TZOFFSETTO:-0700
RDATE:20251102T020000
END:STANDARD
BEGIN:DAYLIGHT
TZNAME:MDT
DTSTART:20240310T020000
TZOFFSETFROM:-0700
TZOFFSETTO:-0600
RDATE:20250309T020000
RDATE:20260308T020000
END:DAYLIGHT
END:VTIMEZONE
BEGIN:VEVENT
UID:67dbd5d8-af70-4380-9d55-58b5e838c4b5
DTSTAMP:20260422T093130Z
DESCRIPTION:Children's voices matter too! Come to play at WOW! and have a c
 hance to fill out your very own ballot. Who will win?: Pizza vs. Tacos vs.
  Mac & Cheese\, and more! \n\nIncluded with Museum Admission or Membership
 .
DTSTART;TZID=America/Denver:20241105T090000
DTEND;TZID=America/Denver:20241105T170000
LOCATION:
SUMMARY:Kids Vote Too!
END:VEVENT
END:VCALENDAR
