BEGIN:VCALENDAR
VERSION:2.0
PRODID:-//wowchildrensmuseum.org//NONSGML kigkonsult.se iCalcreator 2.30.10
 //
CALSCALE:GREGORIAN
METHOD:PUBLISH
UID:39dba767-edd5-4ee7-af49-c08baefe9913
X-WR-CALDESC:Create your own monster from cardboard boxes in the activity r
 ooms!
X-WR-RELCALID:17eabb2d0219c14408c9b07ea5edd9a3
X-WR-TIMEZONE:America/Denver
BEGIN:VTIMEZONE
TZID:America/Denver
BEGIN:STANDARD
TZNAME:MST
DTSTART:20231105T020000
TZOFFSETFROM:-0600
TZOFFSETTO:-0700
RDATE:20241103T020000
RDATE:20251102T020000
END:STANDARD
BEGIN:DAYLIGHT
TZNAME:MDT
DTSTART:20240310T020000
TZOFFSETFROM:-0700
TZOFFSETTO:-0600
RDATE:20250309T020000
RDATE:20260308T020000
END:DAYLIGHT
END:VTIMEZONE
BEGIN:VEVENT
UID:c22db69d-b6d8-47f4-8b62-7025a4db2613
DTSTAMP:20260420T064100Z
DESCRIPTION:Create your own monster from cardboard boxes in the activity ro
 oms!
DTSTART;TZID=America/Denver:20241031T040000
DTEND;TZID=America/Denver:20241031T040001
LOCATION:
SUMMARY:Build a Monster Box Day
END:VEVENT
END:VCALENDAR
