BEGIN:VCALENDAR
VERSION:2.0
PRODID:-//wowchildrensmuseum.org//NONSGML kigkonsult.se iCalcreator 2.30.10
 //
CALSCALE:GREGORIAN
METHOD:PUBLISH
UID:1722f26a-f579-4e34-ae45-f14abac8c9a4
X-WR-CALDESC:Drop in for a festive storytime and performance by Boulder Bal
 let in preparation of their Nutcracker performances this holiday season!\n
 \nIncluded with Museum Admission or Membership.
X-WR-RELCALID:f4e4676a7933535758e08b5323a5e3cc
X-WR-TIMEZONE:America/Denver
BEGIN:VTIMEZONE
TZID:America/Denver
BEGIN:STANDARD
TZNAME:MST
DTSTART:20231105T020000
TZOFFSETFROM:-0600
TZOFFSETTO:-0700
RDATE:20241103T020000
RDATE:20251102T020000
END:STANDARD
BEGIN:DAYLIGHT
TZNAME:MDT
DTSTART:20240310T020000
TZOFFSETFROM:-0700
TZOFFSETTO:-0600
RDATE:20250309T020000
RDATE:20260308T020000
END:DAYLIGHT
END:VTIMEZONE
BEGIN:VEVENT
UID:90a6f136-81ce-45a2-8d7e-9f675acb10bb
DTSTAMP:20260420T064658Z
DESCRIPTION:Drop in for a festive storytime and performance by Boulder Ball
 et in preparation of their Nutcracker performances this holiday season!\n
 \nIncluded with Museum Admission or Membership.
DTSTART;TZID=America/Denver:20241026T093000
DTEND;TZID=America/Denver:20241026T100000
LOCATION:
SUMMARY:Nutcracker Storytelling with Boulder Ballet
END:VEVENT
END:VCALENDAR
