BEGIN:VCALENDAR
VERSION:2.0
PRODID:-//wowchildrensmuseum.org//NONSGML kigkonsult.se iCalcreator 2.30.10
 //
CALSCALE:GREGORIAN
METHOD:PUBLISH
UID:fe63c39a-6708-464c-93a6-af2b3a7e0d7e
X-WR-CALDESC:Come in costume to WOW!'s annual Halloween Party—this year is 
 STEM-themed with spooky science activities\, games\, and non-candy giveawa
 ys! Visit with slithery friends from My Nature Lab\, dissect an owl pellet
 \, explore candy science\, and more!\n\nTickets are $7 per adult\, $13 per
  non-member child\, and $10 per member child.\n\nTickets are transferable\
 , but non-refundable.
X-WR-RELCALID:cd19e9c120682483ece079504078b068
X-WR-TIMEZONE:America/Denver
BEGIN:VTIMEZONE
TZID:America/Denver
BEGIN:STANDARD
TZNAME:MST
DTSTART:20231105T020000
TZOFFSETFROM:-0600
TZOFFSETTO:-0700
RDATE:20241103T020000
RDATE:20251102T020000
END:STANDARD
BEGIN:DAYLIGHT
TZNAME:MDT
DTSTART:20240310T020000
TZOFFSETFROM:-0700
TZOFFSETTO:-0600
RDATE:20250309T020000
RDATE:20260308T020000
END:DAYLIGHT
END:VTIMEZONE
BEGIN:VEVENT
UID:89304cd0-f6ba-46fe-bfab-98f773a5130b
DTSTAMP:20260420T071057Z
DESCRIPTION:Come in costume to WOW!'s annual Halloween Party—this year is S
 TEM-themed with spooky science activities\, games\, and non-candy giveaway
 s! Visit with slithery friends from My Nature Lab\, dissect an owl pellet\
 , explore candy science\, and more!\n\nTickets are $7 per adult\, $13 per 
 non-member child\, and $10 per member child.\n\nTickets are transferable\,
  but non-refundable.
DTSTART;TZID=America/Denver:20241025T173000
DTEND;TZID=America/Denver:20241025T193000
LOCATION:
SUMMARY:Spooky Science Night! ($)
END:VEVENT
END:VCALENDAR
