BEGIN:VCALENDAR
VERSION:2.0
PRODID:-//wowchildrensmuseum.org//NONSGML kigkonsult.se iCalcreator 2.30.10
 //
CALSCALE:GREGORIAN
METHOD:PUBLISH
UID:5d45ba31-740b-466d-8cab-c0b63b9e2c78
X-WR-CALDESC:School is out and the Museum is open! Join us for learn-throug
 h-playtime! We will be open 9:00am-5:00pm.
X-WR-RELCALID:9ebdfe0ab510fe6e74a7aea74b745cdb
X-WR-TIMEZONE:America/Denver
BEGIN:VTIMEZONE
TZID:America/Denver
BEGIN:STANDARD
TZNAME:MST
DTSTART:20231105T020000
TZOFFSETFROM:-0600
TZOFFSETTO:-0700
RDATE:20241103T020000
RDATE:20251102T020000
END:STANDARD
BEGIN:DAYLIGHT
TZNAME:MDT
DTSTART:20240310T020000
TZOFFSETFROM:-0700
TZOFFSETTO:-0600
RDATE:20250309T020000
RDATE:20260308T020000
END:DAYLIGHT
END:VTIMEZONE
BEGIN:VEVENT
UID:933af958-5976-4f0e-9d10-4c337f1e92b0
DTSTAMP:20260420T053222Z
DESCRIPTION:School is out and the Museum is open! Join us for learn-through
 -playtime! We will be open 9:00am-5:00pm.
DTSTART;TZID=America/Denver:20241014T040000
DTEND;TZID=America/Denver:20241014T040001
LOCATION:
SUMMARY:MUSEUM OPEN
END:VEVENT
END:VCALENDAR
