BEGIN:VCALENDAR
VERSION:2.0
PRODID:-//wowchildrensmuseum.org//NONSGML kigkonsult.se iCalcreator 2.30.10
 //
CALSCALE:GREGORIAN
METHOD:PUBLISH
UID:8414fe5c-86f4-4183-9e83-c979e6a3decb
X-WR-CALDESC:School is out and WOW! is open! We will be open today from 9:0
 0am-5:00pm.
X-WR-RELCALID:6801bbee99958254ebeade61a2b2c6fb
X-WR-TIMEZONE:America/Denver
BEGIN:VTIMEZONE
TZID:America/Denver
BEGIN:STANDARD
TZNAME:MST
DTSTART:20251102T020000
TZOFFSETFROM:-0600
TZOFFSETTO:-0700
RDATE:20261101T020000
END:STANDARD
BEGIN:DAYLIGHT
TZNAME:MDT
DTSTART:20260308T020000
TZOFFSETFROM:-0700
TZOFFSETTO:-0600
RDATE:20270314T020000
END:DAYLIGHT
END:VTIMEZONE
BEGIN:VEVENT
UID:5cc12459-ddd2-4252-86cc-b63563a61c15
DTSTAMP:20260421T115832Z
DESCRIPTION:School is out and WOW! is open! We will be open today from 9:00
 am-5:00pm.
DTSTART;TZID=America/Denver:20260316T090000
DTEND;TZID=America/Denver:20260316T170000
LOCATION:
SUMMARY:MUSEUM OPEN- Spring Break
END:VEVENT
END:VCALENDAR
