BEGIN:VCALENDAR
VERSION:2.0
PRODID:-//wowchildrensmuseum.org//NONSGML kigkonsult.se iCalcreator 2.30.10
 //
CALSCALE:GREGORIAN
METHOD:PUBLISH
UID:30f82c0f-db99-41a7-9c42-673c204bd1e1
X-WR-CALDESC:Get into the spirit of St. Patrick's Day with a special perfor
 mance by the McTeggart Irish Dancers!\n\nIncluded with Museum Admission or
  Membership.
X-WR-RELCALID:b77acbce85a60a00d584130160605108
X-WR-TIMEZONE:America/Denver
BEGIN:VTIMEZONE
TZID:America/Denver
BEGIN:STANDARD
TZNAME:MST
DTSTART:20251102T020000
TZOFFSETFROM:-0600
TZOFFSETTO:-0700
RDATE:20261101T020000
END:STANDARD
BEGIN:DAYLIGHT
TZNAME:MDT
DTSTART:20260308T020000
TZOFFSETFROM:-0700
TZOFFSETTO:-0600
RDATE:20270314T020000
END:DAYLIGHT
END:VTIMEZONE
BEGIN:VEVENT
UID:95b157c8-4f55-49ce-b3bc-279b05dcc647
DTSTAMP:20260421T120259Z
DESCRIPTION:Get into the spirit of St. Patrick's Day with a special perform
 ance by the McTeggart Irish Dancers!\n\nIncluded with Museum Admission or 
 Membership.
DTSTART;TZID=America/Denver:20260314T100000
DTEND;TZID=America/Denver:20260314T103000
LOCATION:
SUMMARY:McTeggart Irish Dancers
END:VEVENT
END:VCALENDAR
