BEGIN:VCALENDAR
VERSION:2.0
PRODID:-//wowchildrensmuseum.org//NONSGML kigkonsult.se iCalcreator 2.30.10
 //
CALSCALE:GREGORIAN
METHOD:PUBLISH
UID:0ddf4f29-5b81-4934-9aa1-e5854ea3e58b
X-WR-CALDESC:Ring in the Year of the Horse with a very special Lion Dance p
 erformance by the Shaolin Hung Mei Kung Fu Association.\n\nIncluded with M
 useum Admission or Membership.
X-WR-RELCALID:38b19031f136585695ab95b1fd716ab9
X-WR-TIMEZONE:America/Denver
BEGIN:VTIMEZONE
TZID:America/Denver
BEGIN:STANDARD
TZNAME:MST
DTSTART:20251102T020000
TZOFFSETFROM:-0600
TZOFFSETTO:-0700
RDATE:20261101T020000
END:STANDARD
BEGIN:DAYLIGHT
TZNAME:MDT
DTSTART:20250309T020000
TZOFFSETFROM:-0700
TZOFFSETTO:-0600
RDATE:20260308T020000
RDATE:20270314T020000
END:DAYLIGHT
END:VTIMEZONE
BEGIN:VEVENT
UID:7b4c8e7e-253c-4d93-8f6f-c00861553852
DTSTAMP:20260421T135233Z
DESCRIPTION:Ring in the Year of the Horse with a very special Lion Dance pe
 rformance by the Shaolin Hung Mei Kung Fu Association.\n\nIncluded with Mu
 seum Admission or Membership.
DTSTART;TZID=America/Denver:20260216T110000
DTEND;TZID=America/Denver:20260216T113000
LOCATION:
SUMMARY:Lunar New Year Lion Dance
END:VEVENT
END:VCALENDAR
