BEGIN:VCALENDAR
VERSION:2.0
PRODID:-//wowchildrensmuseum.org//NONSGML kigkonsult.se iCalcreator 2.30.10
 //
CALSCALE:GREGORIAN
METHOD:PUBLISH
UID:50eb34b9-8267-4731-9c9b-74a6f44ffe63
X-WR-CALDESC:Ring in the Year of the Horse with a very special Lion Dance p
 erformance by the Shaolin Hung Mei Kung Fu Association.\n\nIncluded with M
 useum Admission or Membership.
X-WR-RELCALID:62ebe111dc2babd616897df58e2afc98
X-WR-TIMEZONE:America/Denver
BEGIN:VTIMEZONE
TZID:America/Denver
BEGIN:STANDARD
TZNAME:MST
DTSTART:20251102T020000
TZOFFSETFROM:-0600
TZOFFSETTO:-0700
RDATE:20261101T020000
END:STANDARD
BEGIN:DAYLIGHT
TZNAME:MDT
DTSTART:20250309T020000
TZOFFSETFROM:-0700
TZOFFSETTO:-0600
RDATE:20260308T020000
RDATE:20270314T020000
END:DAYLIGHT
END:VTIMEZONE
BEGIN:VEVENT
UID:c3c31668-a280-45eb-aa1e-ef51113f081b
DTSTAMP:20260421T135136Z
DESCRIPTION:Ring in the Year of the Horse with a very special Lion Dance pe
 rformance by the Shaolin Hung Mei Kung Fu Association.\n\nIncluded with Mu
 seum Admission or Membership.
DTSTART;TZID=America/Denver:20260216T100000
DTEND;TZID=America/Denver:20260216T103000
LOCATION:
SUMMARY:Lunar New Year Lion Dance
END:VEVENT
END:VCALENDAR
