BEGIN:VCALENDAR
VERSION:2.0
PRODID:-//wowchildrensmuseum.org//NONSGML kigkonsult.se iCalcreator 2.30.10
 //
CALSCALE:GREGORIAN
METHOD:PUBLISH
UID:9cf5d105-17ca-408a-8732-3c8641256868
X-WR-CALDESC:Join us a special all ages story time! Included with Museum Ad
 mission or Membership.\n\nAcompáñanos para una sesión especial de cuentacu
 entos para todas las edades. \nIncluido con entrada al museo o con membres
 ía.\n\n
X-WR-RELCALID:32875904a1c464f7053260a1cfb8ea16
X-WR-TIMEZONE:America/Denver
BEGIN:VTIMEZONE
TZID:America/Denver
BEGIN:STANDARD
TZNAME:MST
DTSTART:20251102T020000
TZOFFSETFROM:-0600
TZOFFSETTO:-0700
RDATE:20261101T020000
END:STANDARD
BEGIN:DAYLIGHT
TZNAME:MDT
DTSTART:20250309T020000
TZOFFSETFROM:-0700
TZOFFSETTO:-0600
RDATE:20260308T020000
RDATE:20270314T020000
END:DAYLIGHT
END:VTIMEZONE
BEGIN:VEVENT
UID:b6f90767-4f06-4ca6-bd0c-4d93c5b1278d
DTSTAMP:20260421T154525Z
DESCRIPTION:Join us a special all ages story time! Included with Museum Adm
 ission or Membership.\n\nAcompáñanos para una sesión especial de cuentacue
 ntos para todas las edades. \nIncluido con entrada al museo o con membresí
 a.\n\n
DTSTART;TZID=America/Denver:20260129T110000
DTEND;TZID=America/Denver:20260129T113000
LOCATION:
SUMMARY:Bilingual Storytime
END:VEVENT
END:VCALENDAR
