BEGIN:VCALENDAR
VERSION:2.0
PRODID:-//wowchildrensmuseum.org//NONSGML kigkonsult.se iCalcreator 2.30.10
 //
CALSCALE:GREGORIAN
METHOD:PUBLISH
UID:b9938568-d03b-4f83-89ff-cb879714b206
X-WR-CALDESC:It's Boxing Day and around here that means creating with cardb
 oard! Drop in anytime today between 9:30-3:30 and see what you can build! 
 Possibilities are endless!\n\nIncluded with Museum Admission or Membership
 .
X-WR-RELCALID:eb43526e2def2cc81d473f13d3a029ed
X-WR-TIMEZONE:America/Denver
BEGIN:VTIMEZONE
TZID:America/Denver
BEGIN:STANDARD
TZNAME:MST
DTSTART:20251102T020000
TZOFFSETFROM:-0600
TZOFFSETTO:-0700
RDATE:20261101T020000
END:STANDARD
BEGIN:DAYLIGHT
TZNAME:MDT
DTSTART:20250309T020000
TZOFFSETFROM:-0700
TZOFFSETTO:-0600
RDATE:20260308T020000
RDATE:20270314T020000
END:DAYLIGHT
END:VTIMEZONE
BEGIN:VEVENT
UID:417c9bbb-fd85-48d4-97e7-9cc998a6b1a2
DTSTAMP:20260421T170602Z
DESCRIPTION:It's Boxing Day and around here that means creating with cardbo
 ard! Drop in anytime today between 9:30-3:30 and see what you can build! P
 ossibilities are endless!\n\nIncluded with Museum Admission or Membership.
DTSTART;TZID=America/Denver:20251226T093000
DTEND;TZID=America/Denver:20251226T153000
LOCATION:
SUMMARY:'Box'ing Day
END:VEVENT
END:VCALENDAR
