BEGIN:VCALENDAR
VERSION:2.0
PRODID:-//wowchildrensmuseum.org//NONSGML kigkonsult.se iCalcreator 2.30.10
 //
CALSCALE:GREGORIAN
METHOD:PUBLISH
UID:3fd807a3-1905-4bf9-ba80-02680e999c62
X-WR-CALDESC:WOW! is closed today! Merry Christmas!
X-WR-RELCALID:0c3b0de4b5dd7f5ec5ae36f2994da39b
X-WR-TIMEZONE:America/Denver
BEGIN:VTIMEZONE
TZID:America/Denver
BEGIN:STANDARD
TZNAME:MST
DTSTART:20251102T020000
TZOFFSETFROM:-0600
TZOFFSETTO:-0700
RDATE:20261101T020000
END:STANDARD
BEGIN:DAYLIGHT
TZNAME:MDT
DTSTART:20250309T020000
TZOFFSETFROM:-0700
TZOFFSETTO:-0600
RDATE:20260308T020000
RDATE:20270314T020000
END:DAYLIGHT
END:VTIMEZONE
BEGIN:VEVENT
UID:d79a7fd8-17ee-4cb5-8fbc-d43e5c1e75ac
DTSTAMP:20260421T170706Z
DESCRIPTION:WOW! is closed today! Merry Christmas!
DTSTART;TZID=America/Denver:20251225T040000
DTEND;TZID=America/Denver:20251225T040001
LOCATION:
SUMMARY:Museum Closed- Christmas
END:VEVENT
END:VCALENDAR
