BEGIN:VCALENDAR
VERSION:2.0
PRODID:-//wowchildrensmuseum.org//NONSGML kigkonsult.se iCalcreator 2.30.10
 //
CALSCALE:GREGORIAN
METHOD:PUBLISH
UID:61b3e64d-e43d-4fe5-b7b7-081b694bad6b
X-WR-CALDESC:Join us for drop-in programs all Winter Break! STEAM to the Ma
 x is our weekly series of science\, technology\, engineering\, art\, and m
 ath-related activities. Today\, we're making fractal triangle trees! \n\nI
 ncluded with Museum Admission or Membership.
X-WR-RELCALID:dcf923b32fbfa48312f007c56893ef25
X-WR-TIMEZONE:America/Denver
BEGIN:VTIMEZONE
TZID:America/Denver
BEGIN:STANDARD
TZNAME:MST
DTSTART:20251102T020000
TZOFFSETFROM:-0600
TZOFFSETTO:-0700
RDATE:20261101T020000
END:STANDARD
BEGIN:DAYLIGHT
TZNAME:MDT
DTSTART:20250309T020000
TZOFFSETFROM:-0700
TZOFFSETTO:-0600
RDATE:20260308T020000
RDATE:20270314T020000
END:DAYLIGHT
END:VTIMEZONE
BEGIN:VEVENT
UID:8d41f84d-023c-4b30-ad77-a1edc4f89cb6
DTSTAMP:20260421T170832Z
DESCRIPTION:Join us for drop-in programs all Winter Break! STEAM to the Max
  is our weekly series of science\, technology\, engineering\, art\, and ma
 th-related activities. Today\, we're making fractal triangle trees! \n\nIn
 cluded with Museum Admission or Membership.
DTSTART;TZID=America/Denver:20251223T153000
DTEND;TZID=America/Denver:20251223T161500
LOCATION:
SUMMARY:STEAM to the Max!
END:VEVENT
END:VCALENDAR
