BEGIN:VCALENDAR
VERSION:2.0
PRODID:-//wowchildrensmuseum.org//NONSGML kigkonsult.se iCalcreator 2.30.10
 //
CALSCALE:GREGORIAN
METHOD:PUBLISH
UID:768da45f-9888-4804-b53f-49d8330e2ca8
X-WR-CALDESC:Join us for drop-in programming all Winter Break! This afterno
 on\, use sensory materials like shredded paper and cotton balls to create 
 your own 'hot chocolate.' Included with Museum Admission or Membership.
X-WR-RELCALID:0626e9bddb54761270f2331ccccb3663
X-WR-TIMEZONE:America/Denver
BEGIN:VTIMEZONE
TZID:America/Denver
BEGIN:STANDARD
TZNAME:MST
DTSTART:20251102T020000
TZOFFSETFROM:-0600
TZOFFSETTO:-0700
RDATE:20261101T020000
END:STANDARD
BEGIN:DAYLIGHT
TZNAME:MDT
DTSTART:20250309T020000
TZOFFSETFROM:-0700
TZOFFSETTO:-0600
RDATE:20260308T020000
RDATE:20270314T020000
END:DAYLIGHT
END:VTIMEZONE
BEGIN:VEVENT
UID:2632392f-542d-41cb-8a08-a59fcf609d15
DTSTAMP:20260421T170930Z
DESCRIPTION:Join us for drop-in programming all Winter Break! This afternoo
 n\, use sensory materials like shredded paper and cotton balls to create y
 our own 'hot chocolate.' Included with Museum Admission or Membership.
DTSTART;TZID=America/Denver:20251223T140000
DTEND;TZID=America/Denver:20251223T150000
LOCATION:
SUMMARY:Sensory 'Hot Chocolate' craft
END:VEVENT
END:VCALENDAR
