BEGIN:VCALENDAR
VERSION:2.0
PRODID:-//wowchildrensmuseum.org//NONSGML kigkonsult.se iCalcreator 2.30.10
 //
CALSCALE:GREGORIAN
METHOD:PUBLISH
UID:d0a1a65a-4271-426f-b1cb-0153da8903d1
X-WR-CALDESC:School is out and WOW! is open! 9:00am-5:00pm.
X-WR-RELCALID:981c654a3f8230552d2f329b9f4cd82d
X-WR-TIMEZONE:America/Denver
BEGIN:VTIMEZONE
TZID:America/Denver
BEGIN:STANDARD
TZNAME:MST
DTSTART:20251102T020000
TZOFFSETFROM:-0600
TZOFFSETTO:-0700
RDATE:20261101T020000
END:STANDARD
BEGIN:DAYLIGHT
TZNAME:MDT
DTSTART:20250309T020000
TZOFFSETFROM:-0700
TZOFFSETTO:-0600
RDATE:20260308T020000
RDATE:20270314T020000
END:DAYLIGHT
END:VTIMEZONE
BEGIN:VEVENT
UID:eaf8eacd-b959-4bf7-bbf1-4a26f5e2e3f3
DTSTAMP:20260421T170557Z
DESCRIPTION:School is out and WOW! is open! 9:00am-5:00pm.
DTSTART;TZID=America/Denver:20251222T090000
DTEND;TZID=America/Denver:20251222T170000
LOCATION:
SUMMARY:Museum Open- Winter Break
END:VEVENT
END:VCALENDAR
