BEGIN:VCALENDAR
VERSION:2.0
PRODID:-//wowchildrensmuseum.org//NONSGML kigkonsult.se iCalcreator 2.30.10
 //
CALSCALE:GREGORIAN
METHOD:PUBLISH
UID:741e28c9-3dc1-4599-a73b-8709a4f7f476
X-WR-CALDESC:WOW! is open for play today\, 9:00am-5:00pm! We're celebrating
  Museum Store Sunday! Retail purchases are 10% off and members get 20% off
 \, plus giveaways and exclusive deals today only! Support your local nonpr
 ofit children's museum for your holiday shopping!
X-WR-RELCALID:c90f51516915ad06a95b4faf1d0b0b26
X-WR-TIMEZONE:America/Denver
BEGIN:VTIMEZONE
TZID:America/Denver
BEGIN:STANDARD
TZNAME:MST
DTSTART:20251102T020000
TZOFFSETFROM:-0600
TZOFFSETTO:-0700
RDATE:20261101T020000
END:STANDARD
BEGIN:DAYLIGHT
TZNAME:MDT
DTSTART:20250309T020000
TZOFFSETFROM:-0700
TZOFFSETTO:-0600
RDATE:20260308T020000
RDATE:20270314T020000
END:DAYLIGHT
END:VTIMEZONE
BEGIN:VEVENT
UID:1de6cb16-e8ec-4df4-91c0-e205b81e5340
DTSTAMP:20260421T154341Z
DESCRIPTION:WOW! is open for play today\, 9:00am-5:00pm! We're celebrating 
 Museum Store Sunday! Retail purchases are 10% off and members get 20% off\
 , plus giveaways and exclusive deals today only! Support your local nonpro
 fit children's museum for your holiday shopping!
DTSTART;TZID=America/Denver:20251130T090000
DTEND;TZID=America/Denver:20251130T170000
LOCATION:
SUMMARY:Museum Open! Museum Store Sunday
END:VEVENT
END:VCALENDAR
