BEGIN:VCALENDAR
VERSION:2.0
PRODID:-//wowchildrensmuseum.org//NONSGML kigkonsult.se iCalcreator 2.30.10
 //
CALSCALE:GREGORIAN
METHOD:PUBLISH
UID:a1850cf0-c136-42c6-8a51-264a84d1f3c4
X-WR-CALDESC:Join us for drop-in programming all week! Included with Museum
  Admission or Membership.
X-WR-RELCALID:0e387b2d446d8b78b0d7b0faf8b1f50c
X-WR-TIMEZONE:America/Denver
BEGIN:VTIMEZONE
TZID:America/Denver
BEGIN:STANDARD
TZNAME:MST
DTSTART:20251102T020000
TZOFFSETFROM:-0600
TZOFFSETTO:-0700
RDATE:20261101T020000
END:STANDARD
BEGIN:DAYLIGHT
TZNAME:MDT
DTSTART:20250309T020000
TZOFFSETFROM:-0700
TZOFFSETTO:-0600
RDATE:20260308T020000
RDATE:20270314T020000
END:DAYLIGHT
END:VTIMEZONE
BEGIN:VEVENT
UID:1000291e-0dd4-4e55-93ce-295a97b8206d
DTSTAMP:20260421T151819Z
DESCRIPTION:Join us for drop-in programming all week! Included with Museum 
 Admission or Membership.
DTSTART;TZID=America/Denver:20251124T100000
DTEND;TZID=America/Denver:20251124T110000
LOCATION:
SUMMARY:Watercolor Craft
END:VEVENT
END:VCALENDAR
