BEGIN:VCALENDAR
VERSION:2.0
PRODID:-//wowchildrensmuseum.org//NONSGML kigkonsult.se iCalcreator 2.30.10
 //
CALSCALE:GREGORIAN
METHOD:PUBLISH
UID:674e5a93-9df8-4c9f-a879-faac618356df
X-WR-CALDESC:Join us for Sensory Friendly Playtime\, a special Museum progr
 am for children with autism spectrum or sensory processing disorders. WOW!
  will limit capacity\, turn down sounds and lights\, and provide adaptive 
 equipment to offer a safe and fun experience for all! \n\nDandelion Arts C
 ollective will be here!\n\nAdmission is $1 for participants thanks to WOW!
 's donor-supported Play for All Initiative.\nIf the registration link is i
 nactive\, that means our event is at full capacity and we cannot accept ne
 w registrations.
X-WR-RELCALID:118bafd3bb5afe4d93de06f6633e1913
X-WR-TIMEZONE:America/Denver
BEGIN:VTIMEZONE
TZID:America/Denver
BEGIN:STANDARD
TZNAME:MST
DTSTART:20251102T020000
TZOFFSETFROM:-0600
TZOFFSETTO:-0700
RDATE:20261101T020000
END:STANDARD
BEGIN:DAYLIGHT
TZNAME:MDT
DTSTART:20250309T020000
TZOFFSETFROM:-0700
TZOFFSETTO:-0600
RDATE:20260308T020000
RDATE:20270314T020000
END:DAYLIGHT
END:VTIMEZONE
BEGIN:VEVENT
UID:398b1661-f498-46e8-a122-ed4d1012a467
DTSTAMP:20260421T151557Z
DESCRIPTION:Join us for Sensory Friendly Playtime\, a special Museum progra
 m for children with autism spectrum or sensory processing disorders. WOW! 
 will limit capacity\, turn down sounds and lights\, and provide adaptive e
 quipment to offer a safe and fun experience for all! \n\nDandelion Arts Co
 llective will be here!\n\nAdmission is $1 for participants thanks to WOW!'
 s donor-supported Play for All Initiative.\nIf the registration link is in
 active\, that means our event is at full capacity and we cannot accept new
  registrations.
DTSTART;TZID=America/Denver:20251116T100000
DTEND;TZID=America/Denver:20251116T120000
LOCATION:
SUMMARY:Sensory Friendly Playtime
END:VEVENT
END:VCALENDAR
