BEGIN:VCALENDAR
VERSION:2.0
PRODID:-//wowchildrensmuseum.org//NONSGML kigkonsult.se iCalcreator 2.30.10
 //
CALSCALE:GREGORIAN
METHOD:PUBLISH
UID:88e975ad-6ece-4e5a-a0be-e4c0889b28cd
X-WR-CALDESC:Attention teens and former WOW! kids--this event is for you! J
 oin us for WOW! Next\, a series of after-hours activities just for an olde
 r age group. This WOW! Next event will feature tabletop board games. Disco
 ver new ones or play old classics--a variety will be provided. \n\nTickets
  are $15 per person. The recommended age group for this event is 12-17 yea
 rs old.
X-WR-RELCALID:f36ccf98f33238eec6e30114933532ce
X-WR-TIMEZONE:America/Denver
BEGIN:VTIMEZONE
TZID:America/Denver
BEGIN:STANDARD
TZNAME:MST
DTSTART:20251102T020000
TZOFFSETFROM:-0600
TZOFFSETTO:-0700
RDATE:20261101T020000
END:STANDARD
BEGIN:DAYLIGHT
TZNAME:MDT
DTSTART:20250309T020000
TZOFFSETFROM:-0700
TZOFFSETTO:-0600
RDATE:20260308T020000
RDATE:20270314T020000
END:DAYLIGHT
END:VTIMEZONE
BEGIN:VEVENT
UID:e24361fa-6385-45a3-9aef-d795b3088200
DTSTAMP:20260421T153156Z
DESCRIPTION:Attention teens and former WOW! kids--this event is for you! Jo
 in us for WOW! Next\, a series of after-hours activities just for an older
  age group. This WOW! Next event will feature tabletop board games. Discov
 er new ones or play old classics--a variety will be provided. \n\nTickets 
 are $15 per person. The recommended age group for this event is 12-17 year
 s old.
DTSTART;TZID=America/Denver:20251114T180000
DTEND;TZID=America/Denver:20251114T200000
LOCATION:
SUMMARY:WOW! Next: Teen Game Night ($)
END:VEVENT
END:VCALENDAR
