BEGIN:VCALENDAR
VERSION:2.0
PRODID:-//wowchildrensmuseum.org//NONSGML kigkonsult.se iCalcreator 2.30.10
 //
CALSCALE:GREGORIAN
METHOD:PUBLISH
UID:7ec76a41-5a73-42a1-8f68-5248470362a9
X-WR-CALDESC:Drop in for a festive storytime and performance by Boulder Bal
 let in preparation of their Nutcracker performances this holiday season!\n
 \nIncluded with Museum Admission or Membership.
X-WR-RELCALID:2ef51282e0296950299d39b4cf3c168f
X-WR-TIMEZONE:America/Denver
BEGIN:VTIMEZONE
TZID:America/Denver
BEGIN:STANDARD
TZNAME:MST
DTSTART:20251102T020000
TZOFFSETFROM:-0600
TZOFFSETTO:-0700
RDATE:20261101T020000
END:STANDARD
BEGIN:DAYLIGHT
TZNAME:MDT
DTSTART:20250309T020000
TZOFFSETFROM:-0700
TZOFFSETTO:-0600
RDATE:20260308T020000
RDATE:20270314T020000
END:DAYLIGHT
END:VTIMEZONE
BEGIN:VEVENT
UID:9017f5a0-3c1f-4fe4-a4b4-b34473364da6
DTSTAMP:20260421T151914Z
DESCRIPTION:Drop in for a festive storytime and performance by Boulder Ball
 et in preparation of their Nutcracker performances this holiday season!\n
 \nIncluded with Museum Admission or Membership.
DTSTART;TZID=America/Denver:20251108T091500
DTEND;TZID=America/Denver:20251108T100000
LOCATION:
SUMMARY:Nutcracker Storytelling with Boulder Ballet
END:VEVENT
END:VCALENDAR
