BEGIN:VCALENDAR
VERSION:2.0
PRODID:-//wowchildrensmuseum.org//NONSGML kigkonsult.se iCalcreator 2.30.10
 //
CALSCALE:GREGORIAN
METHOD:PUBLISH
UID:7e3e3044-11bf-4789-8b57-4fe41ae5b019
X-WR-CALDESC:The Museum will be open today\, 9:00am-5:00pm\, in honor of In
 digenous Peoples' Day. We are pleased to offer admission as 'pay what you 
 can' today only.
X-WR-RELCALID:dde9755b0d73790537005f7aa7740377
X-WR-TIMEZONE:America/Denver
BEGIN:VTIMEZONE
TZID:America/Denver
BEGIN:STANDARD
TZNAME:MST
DTSTART:20241103T020000
TZOFFSETFROM:-0600
TZOFFSETTO:-0700
RDATE:20251102T020000
RDATE:20261101T020000
END:STANDARD
BEGIN:DAYLIGHT
TZNAME:MDT
DTSTART:20250309T020000
TZOFFSETFROM:-0700
TZOFFSETTO:-0600
RDATE:20260308T020000
RDATE:20270314T020000
END:DAYLIGHT
END:VTIMEZONE
BEGIN:VEVENT
UID:c9145f0c-6901-44fa-ae3d-5cc4b5de0f10
DTSTAMP:20260421T135232Z
DESCRIPTION:The Museum will be open today\, 9:00am-5:00pm\, in honor of Ind
 igenous Peoples' Day. We are pleased to offer admission as 'pay what you c
 an' today only.
DTSTART;TZID=America/Denver:20251013T090000
DTEND;TZID=America/Denver:20251013T170000
LOCATION:
SUMMARY:Museum Open- 'Pay What You Can' Day
END:VEVENT
END:VCALENDAR
