BEGIN:VCALENDAR
VERSION:2.0
PRODID:-//wowchildrensmuseum.org//NONSGML kigkonsult.se iCalcreator 2.30.10
 //
CALSCALE:GREGORIAN
METHOD:PUBLISH
UID:c93ddf0b-65ed-4f8d-bf4e-374d8218018b
X-WR-CALDESC:Honor Indigenous Peoples' Day with WOW! Children's Museum. Joi
 n us at 10:00am for a special dance performance by Raelene Whiteshield (Ch
 eyenne-Arapaho/Kiowa) and storytimes and crafts throughout the day. \n
X-WR-RELCALID:1a1b98d21d636fd2e658f0f08b84a1a9
X-WR-TIMEZONE:America/Denver
BEGIN:VTIMEZONE
TZID:America/Denver
BEGIN:STANDARD
TZNAME:MST
DTSTART:20241103T020000
TZOFFSETFROM:-0600
TZOFFSETTO:-0700
RDATE:20251102T020000
RDATE:20261101T020000
END:STANDARD
BEGIN:DAYLIGHT
TZNAME:MDT
DTSTART:20250309T020000
TZOFFSETFROM:-0700
TZOFFSETTO:-0600
RDATE:20260308T020000
RDATE:20270314T020000
END:DAYLIGHT
END:VTIMEZONE
BEGIN:VEVENT
UID:fad38919-0e27-4ba4-b5f1-dd27764e5064
DTSTAMP:20260421T135137Z
DESCRIPTION:Honor Indigenous Peoples' Day with WOW! Children's Museum. Join
  us at 10:00am for a special dance performance by Raelene Whiteshield (Che
 yenne-Arapaho/Kiowa) and storytimes and crafts throughout the day. \n
DTSTART;TZID=America/Denver:20251013T100000
DTEND;TZID=America/Denver:20251013T110000
LOCATION:
SUMMARY:Indigenous Peoples' Day Celebration
END:VEVENT
END:VCALENDAR
