BEGIN:VCALENDAR
VERSION:2.0
PRODID:-//wowchildrensmuseum.org//NONSGML kigkonsult.se iCalcreator 2.30.10
 //
CALSCALE:GREGORIAN
METHOD:PUBLISH
UID:92253b1e-46e0-4a83-bb4f-874cbf99469d
X-WR-CALDESC:Join us for this series of stories and crafts led by WOW! supe
 r volunteer\, Korrie! Each session will be a new topic\, storytime\, and c
 raft.\n\nThis session's theme: National Mushroom Month\, with 3D wooden mu
 shroom painting craft.\n\nIncluded with Museum Admission or Membership
X-WR-RELCALID:75f2fc1388164f2b0f985322576e52e8
X-WR-TIMEZONE:America/Denver
BEGIN:VTIMEZONE
TZID:America/Denver
BEGIN:STANDARD
TZNAME:MST
DTSTART:20241103T020000
TZOFFSETFROM:-0600
TZOFFSETTO:-0700
RDATE:20251102T020000
RDATE:20261101T020000
END:STANDARD
BEGIN:DAYLIGHT
TZNAME:MDT
DTSTART:20250309T020000
TZOFFSETFROM:-0700
TZOFFSETTO:-0600
RDATE:20260308T020000
RDATE:20270314T020000
END:DAYLIGHT
END:VTIMEZONE
BEGIN:VEVENT
UID:f8e06f08-b809-42ab-be0f-b09973dc1eb5
DTSTAMP:20260421T120005Z
DESCRIPTION:Join us for this series of stories and crafts led by WOW! super
  volunteer\, Korrie! Each session will be a new topic\, storytime\, and cr
 aft.\n\nThis session's theme: National Mushroom Month\, with 3D wooden mus
 hroom painting craft.\n\nIncluded with Museum Admission or Membership
DTSTART;TZID=America/Denver:20250923T100000
DTEND;TZID=America/Denver:20250923T104500
LOCATION:
SUMMARY:Story Craft Workshop
END:VEVENT
END:VCALENDAR
