BEGIN:VCALENDAR
VERSION:2.0
PRODID:-//wowchildrensmuseum.org//NONSGML kigkonsult.se iCalcreator 2.30.10
 //
CALSCALE:GREGORIAN
METHOD:PUBLISH
UID:d75ff47f-4e0a-4429-a713-59c40c950cc3
X-WR-CALDESC:This adults-only evening features local craft beer\, delicious
  food\, lively games\, and a silent auction—all supporting accessible\, pl
 ay-based learning for children in our community. You don't want to miss th
 is night!
X-WR-RELCALID:ad8f0dbbcc8984df3881766dbc4f78ba
X-WR-TIMEZONE:America/Denver
BEGIN:VTIMEZONE
TZID:America/Denver
BEGIN:STANDARD
TZNAME:MST
DTSTART:20241103T020000
TZOFFSETFROM:-0600
TZOFFSETTO:-0700
RDATE:20251102T020000
RDATE:20261101T020000
END:STANDARD
BEGIN:DAYLIGHT
TZNAME:MDT
DTSTART:20250309T020000
TZOFFSETFROM:-0700
TZOFFSETTO:-0600
RDATE:20260308T020000
END:DAYLIGHT
END:VTIMEZONE
BEGIN:VEVENT
UID:4372ae4b-68c8-4fe1-a84d-ca727ae104d7
DTSTAMP:20260421T115952Z
DESCRIPTION:This adults-only evening features local craft beer\, delicious 
 food\, lively games\, and a silent auction—all supporting accessible\, pla
 y-based learning for children in our community. You don't want to miss thi
 s night!
DTSTART;TZID=America/Denver:20250906T180000
DTEND;TZID=America/Denver:20250906T210000
LOCATION:
SUMMARY:WOW! on Tap ($)
END:VEVENT
END:VCALENDAR
