BEGIN:VCALENDAR
VERSION:2.0
PRODID:-//wowchildrensmuseum.org//NONSGML kigkonsult.se iCalcreator 2.30.10
 //
CALSCALE:GREGORIAN
METHOD:PUBLISH
UID:3f86837c-4a9f-4d3b-8330-782c55fe9ea7
X-WR-CALDESC:It's the yummiest chemistry--The Science of Ice Cream! Learn a
 bout liquids and solids while making ice cream\, then eat your yummy resul
 ts! This class is open to ages 3 and up and their caregivers. \n\nALLERGY 
 WARNING: We will be making and eating ice cream using cow milk and cream.
 \n\n'Science of Ice Cream' Summer Classes are $12 per child or $10 per mem
 ber child\, with additional children $8. Adults are free with child regist
 ration. Pre-registration is required. Museum Admission not included with r
 egistration.\n
X-WR-RELCALID:2195860118fd765f5194fd5ff4d6ff12
X-WR-TIMEZONE:America/Denver
BEGIN:VTIMEZONE
TZID:America/Denver
BEGIN:STANDARD
TZNAME:MST
DTSTART:20241103T020000
TZOFFSETFROM:-0600
TZOFFSETTO:-0700
RDATE:20251102T020000
RDATE:20261101T020000
END:STANDARD
BEGIN:DAYLIGHT
TZNAME:MDT
DTSTART:20250309T020000
TZOFFSETFROM:-0700
TZOFFSETTO:-0600
RDATE:20260308T020000
END:DAYLIGHT
END:VTIMEZONE
BEGIN:VEVENT
UID:39b19624-089d-4530-8edc-f9c2760bde6a
DTSTAMP:20260421T103459Z
DESCRIPTION:It's the yummiest chemistry--The Science of Ice Cream! Learn ab
 out liquids and solids while making ice cream\, then eat your yummy result
 s! This class is open to ages 3 and up and their caregivers. \n\nALLERGY W
 ARNING: We will be making and eating ice cream using cow milk and cream.\n
 \n'Science of Ice Cream' Summer Classes are $12 per child or $10 per membe
 r child\, with additional children $8. Adults are free with child registra
 tion. Pre-registration is required. Museum Admission not included with reg
 istration.\n
DTSTART;TZID=America/Denver:20250711T153000
DTEND;TZID=America/Denver:20250711T161500
LOCATION:
SUMMARY:Science of Ice Cream ($)
END:VEVENT
END:VCALENDAR
