BEGIN:VCALENDAR
VERSION:2.0
PRODID:-//wowchildrensmuseum.org//NONSGML kigkonsult.se iCalcreator 2.30.10
 //
CALSCALE:GREGORIAN
METHOD:PUBLISH
UID:9515064c-3c93-4049-af82-e3f7e36415a5
X-WR-CALDESC:Come to WOW! after school and take part in extra awesome STEAM
  activities\, brought to you by WOW! team member\, Max! \n\nSTEAM to the M
 ax! is a new\, recurring program on Tuesday afternoons and is recommended 
 for grades K-3. This special preview is included with Museum Admission or 
 Membership.
X-WR-RELCALID:cb0e685b5f717cc1ce6c2b97a67e0ba2
X-WR-TIMEZONE:America/Denver
BEGIN:VTIMEZONE
TZID:America/Denver
BEGIN:STANDARD
TZNAME:MST
DTSTART:20241103T020000
TZOFFSETFROM:-0600
TZOFFSETTO:-0700
RDATE:20251102T020000
END:STANDARD
BEGIN:DAYLIGHT
TZNAME:MDT
DTSTART:20250309T020000
TZOFFSETFROM:-0700
TZOFFSETTO:-0600
RDATE:20260308T020000
END:DAYLIGHT
END:VTIMEZONE
BEGIN:VEVENT
UID:90aa51de-b451-4d9a-80d5-d91c1d6feb78
DTSTAMP:20260421T082950Z
DESCRIPTION:Come to WOW! after school and take part in extra awesome STEAM 
 activities\, brought to you by WOW! team member\, Max! \n\nSTEAM to the Ma
 x! is a new\, recurring program on Tuesday afternoons and is recommended f
 or grades K-3. This special preview is included with Museum Admission or M
 embership.
DTSTART;TZID=America/Denver:20250325T153000
DTEND;TZID=America/Denver:20250325T161500
LOCATION:
SUMMARY:STEAM to the Max!
END:VEVENT
END:VCALENDAR
