BEGIN:VCALENDAR
VERSION:2.0
PRODID:-//wowchildrensmuseum.org//NONSGML kigkonsult.se iCalcreator 2.30.10
 //
CALSCALE:GREGORIAN
METHOD:PUBLISH
UID:f1540cff-5144-4012-8d9a-eaaae24742d9
X-WR-CALDESC:Visit with our friends from the Lafayette History Museum to ex
 plore objects from Lafayette's past! \n\nIncluded with Museum Admission or
  Membership.
X-WR-RELCALID:612b08793980f1f43b695c569b6d48e1
X-WR-TIMEZONE:America/Denver
BEGIN:VTIMEZONE
TZID:America/Denver
BEGIN:STANDARD
TZNAME:MST
DTSTART:20231105T020000
TZOFFSETFROM:-0600
TZOFFSETTO:-0700
RDATE:20241103T020000
RDATE:20251102T020000
END:STANDARD
BEGIN:DAYLIGHT
TZNAME:MDT
DTSTART:20240310T020000
TZOFFSETFROM:-0700
TZOFFSETTO:-0600
RDATE:20250309T020000
END:DAYLIGHT
END:VTIMEZONE
BEGIN:VEVENT
UID:e1e51a66-3e64-4ac1-bb5a-e23995e0b66c
DTSTAMP:20260422T092257Z
DESCRIPTION:Visit with our friends from the Lafayette History Museum to exp
 lore objects from Lafayette's past! \n\nIncluded with Museum Admission or 
 Membership.
DTSTART;TZID=America/Denver:20240605T153000
DTEND;TZID=America/Denver:20240605T170000
LOCATION:
SUMMARY:'Way Back Whensday' with Lafayette History Museum
END:VEVENT
END:VCALENDAR
