BEGIN:VCALENDAR
VERSION:2.0
PRODID:-//wowchildrensmuseum.org//NONSGML kigkonsult.se iCalcreator 2.30.10
 //
CALSCALE:GREGORIAN
METHOD:PUBLISH
UID:f9b22cbb-fccd-441b-a92f-9f96276bd919
X-WR-CALDESC:A family favorite is back again to celebrate the diverse famil
 ies of our WOW! community. With resources and information for LGBTQ+ famil
 ies and allies\, fun activities for kids\, storytime\, crafts\, and more! 
 Family Pride Night is one of celebration and unity at the Museum. \n\nAdmi
 ssion is only $1 per person\, thanks to WOW!'s Play For All Initiative.
X-WR-RELCALID:10384da8ab7c8b88cfa2e736cccb1eed
X-WR-TIMEZONE:America/Denver
BEGIN:VTIMEZONE
TZID:America/Denver
BEGIN:STANDARD
TZNAME:MST
DTSTART:20231105T020000
TZOFFSETFROM:-0600
TZOFFSETTO:-0700
RDATE:20241103T020000
RDATE:20251102T020000
END:STANDARD
BEGIN:DAYLIGHT
TZNAME:MDT
DTSTART:20240310T020000
TZOFFSETFROM:-0700
TZOFFSETTO:-0600
RDATE:20250309T020000
END:DAYLIGHT
END:VTIMEZONE
BEGIN:VEVENT
UID:3a3c80fc-e696-4347-b96b-52faba759be0
DTSTAMP:20260422T092033Z
DESCRIPTION:A family favorite is back again to celebrate the diverse famili
 es of our WOW! community. With resources and information for LGBTQ+ famili
 es and allies\, fun activities for kids\, storytime\, crafts\, and more! F
 amily Pride Night is one of celebration and unity at the Museum. \n\nAdmis
 sion is only $1 per person\, thanks to WOW!'s Play For All Initiative.
DTSTART;TZID=America/Denver:20240531T173000
DTEND;TZID=America/Denver:20240531T193000
LOCATION:
SUMMARY:Family Pride Night ($)
END:VEVENT
END:VCALENDAR
