BEGIN:VCALENDAR
VERSION:2.0
PRODID:-//wowchildrensmuseum.org//NONSGML kigkonsult.se iCalcreator 2.30.10
 //
CALSCALE:GREGORIAN
METHOD:PUBLISH
UID:79bb7d49-21dd-464d-ab6c-e6c53a1c3a19
X-WR-CALDESC:Drop in anytime between 10:00 and 12:00 today to explore solar
  energy with our friends at Namaste Solar. Try some hands-on activities wi
 th solar cars\, a mock roof with solar panels\, and more!\n\nIncluded with
  Museum Admission or Membership.
X-WR-RELCALID:88015870e483fc42dcd55548720bbae6
X-WR-TIMEZONE:America/Denver
BEGIN:VTIMEZONE
TZID:America/Denver
BEGIN:STANDARD
TZNAME:MST
DTSTART:20231105T020000
TZOFFSETFROM:-0600
TZOFFSETTO:-0700
RDATE:20241103T020000
RDATE:20251102T020000
END:STANDARD
BEGIN:DAYLIGHT
TZNAME:MDT
DTSTART:20240310T020000
TZOFFSETFROM:-0700
TZOFFSETTO:-0600
RDATE:20250309T020000
END:DAYLIGHT
END:VTIMEZONE
BEGIN:VEVENT
UID:f985196e-3366-4e6b-a0af-5ddd8a308a71
DTSTAMP:20260424T084440Z
DESCRIPTION:Drop in anytime between 10:00 and 12:00 today to explore solar 
 energy with our friends at Namaste Solar. Try some hands-on activities wit
 h solar cars\, a mock roof with solar panels\, and more!\n\nIncluded with 
 Museum Admission or Membership.
DTSTART;TZID=America/Denver:20240517T100000
DTEND;TZID=America/Denver:20240517T120000
LOCATION:
SUMMARY:Solar Science!
END:VEVENT
END:VCALENDAR
