BEGIN:VCALENDAR
VERSION:2.0
PRODID:-//wowchildrensmuseum.org//NONSGML kigkonsult.se iCalcreator 2.30.10
 //
CALSCALE:GREGORIAN
METHOD:PUBLISH
UID:7ac1144a-6843-42b7-877e-1861fec1182a
X-WR-CALDESC:Celebrate Día del Niño with WOW! Children's Museum! This festi
 ve day will feature bilingual storytimes\, a special performance by the Co
 lorado Youth Mariachi Program\, and more! Admission is free all day\, thou
 gh capacity may be limited.\n\nThis event is made possible thanks to suppo
 rt from the Lafayette Cultural Arts Commission.\n\nPerformance by Colorado
  Youth Mariachi Program- 1:30pm\nBilingual Storytimes- running throughout 
 the day\n\n\nCelebremos este dia en WOW! Esta festividad serà bilingue con
 tara con cuentas bilingues y una presentacion especial del mariachi juveni
 l de Colorado\, y mucho mas. Admision libre todo el dia aungue la capacida
 d puede ser limitado.\n\nEste evento es posible gracias al apoyo de Lafaye
 tte Cultural Arts Commission.\n\nActuacion especial del mariachi- 1:30pm\n
 Hora curento biligues- toda la dia
X-WR-RELCALID:a166186b785491f495cbb11398f1d5ac
X-WR-TIMEZONE:America/Denver
BEGIN:VTIMEZONE
TZID:America/Denver
BEGIN:STANDARD
TZNAME:MST
DTSTART:20231105T020000
TZOFFSETFROM:-0600
TZOFFSETTO:-0700
RDATE:20241103T020000
END:STANDARD
BEGIN:DAYLIGHT
TZNAME:MDT
DTSTART:20240310T020000
TZOFFSETFROM:-0700
TZOFFSETTO:-0600
RDATE:20250309T020000
END:DAYLIGHT
END:VTIMEZONE
BEGIN:VEVENT
UID:0ecc69af-49f5-4d0c-ac3b-eaf667956d8e
DTSTAMP:20260422T110743Z
DESCRIPTION:Celebrate Día del Niño with WOW! Children's Museum! This festiv
 e day will feature bilingual storytimes\, a special performance by the Col
 orado Youth Mariachi Program\, and more! Admission is free all day\, thoug
 h capacity may be limited.\n\nThis event is made possible thanks to suppor
 t from the Lafayette Cultural Arts Commission.\n\nPerformance by Colorado 
 Youth Mariachi Program- 1:30pm\nBilingual Storytimes- running throughout t
 he day\n\n\nCelebremos este dia en WOW! Esta festividad serà bilingue cont
 ara con cuentas bilingues y una presentacion especial del mariachi juvenil
  de Colorado\, y mucho mas. Admision libre todo el dia aungue la capacidad
  puede ser limitado.\n\nEste evento es posible gracias al apoyo de Lafayet
 te Cultural Arts Commission.\n\nActuacion especial del mariachi- 1:30pm\nH
 ora curento biligues- toda la dia
DTSTART;TZID=America/Denver:20240427T090000
DTEND;TZID=America/Denver:20240427T170000
LOCATION:
SUMMARY:FREE DAY- Día del Niño
END:VEVENT
END:VCALENDAR
