BEGIN:VCALENDAR
VERSION:2.0
PRODID:-//wowchildrensmuseum.org//NONSGML kigkonsult.se iCalcreator 2.30.10
 //
CALSCALE:GREGORIAN
METHOD:PUBLISH
UID:95d483d9-ee57-4ee8-b3f0-485be7146575
X-WR-CALDESC:We love meeting our community members! Bring the kids to play 
 and stop by for a free cup of joe (or tea!). Join the conversation with fe
 llow parents\, caregivers\, and our Community Programs Manager. \n\nInclud
 ed with Museum Admission or Membership.
X-WR-RELCALID:3ba30d060517bf4f4306b584cdcc1f48
X-WR-TIMEZONE:America/Denver
BEGIN:VTIMEZONE
TZID:America/Denver
BEGIN:STANDARD
TZNAME:MST
DTSTART:20231105T020000
TZOFFSETFROM:-0600
TZOFFSETTO:-0700
RDATE:20241103T020000
END:STANDARD
BEGIN:DAYLIGHT
TZNAME:MDT
DTSTART:20240310T020000
TZOFFSETFROM:-0700
TZOFFSETTO:-0600
RDATE:20250309T020000
END:DAYLIGHT
END:VTIMEZONE
BEGIN:VEVENT
UID:a8351cf7-d429-41c1-8e98-5f4957191860
DTSTAMP:20260422T110414Z
DESCRIPTION:We love meeting our community members! Bring the kids to play a
 nd stop by for a free cup of joe (or tea!). Join the conversation with fel
 low parents\, caregivers\, and our Community Programs Manager. \n\nInclude
 d with Museum Admission or Membership.
DTSTART;TZID=America/Denver:20240423T093000
DTEND;TZID=America/Denver:20240423T103000
LOCATION:
SUMMARY:Coffee & Caregivers
END:VEVENT
END:VCALENDAR
