BEGIN:VCALENDAR
VERSION:2.0
PRODID:-//wowchildrensmuseum.org//NONSGML kigkonsult.se iCalcreator 2.30.10
 //
CALSCALE:GREGORIAN
METHOD:PUBLISH
UID:81a4ac9f-ebe7-4f62-a4b9-af73cbb7b35f
X-WR-CALDESC:Save the date for the SWEETEST fundraiser of the year! This fa
 mily-friendly event features games\, prizes\, popcorn bar\, $2 hot dogs\, 
 and so much more!\n\n
X-WR-RELCALID:46e493767aa4aae4ab0ec7dec2bdd388
X-WR-TIMEZONE:America/Denver
BEGIN:VTIMEZONE
TZID:America/Denver
BEGIN:STANDARD
TZNAME:MST
DTSTART:20231105T020000
TZOFFSETFROM:-0600
TZOFFSETTO:-0700
RDATE:20241103T020000
END:STANDARD
BEGIN:DAYLIGHT
TZNAME:MDT
DTSTART:20240310T020000
TZOFFSETFROM:-0700
TZOFFSETTO:-0600
RDATE:20250309T020000
END:DAYLIGHT
END:VTIMEZONE
BEGIN:VEVENT
UID:4d114de7-8d1c-4897-a427-575033671bc0
DTSTAMP:20260422T110737Z
DESCRIPTION:Save the date for the SWEETEST fundraiser of the year! This fam
 ily-friendly event features games\, prizes\, popcorn bar\, $2 hot dogs\, a
 nd so much more!\n\n
DTSTART;TZID=America/Denver:20240413T160000
DTEND;TZID=America/Denver:20240413T190000
LOCATION:
SUMMARY:Candyland Carnival: A Fundraiser for WOW! ($)
END:VEVENT
END:VCALENDAR
